BEGIN:VCALENDAR
VERSION:2.0
PRODID:-//WASH Aquatics Academy - ECPv6.10.0//NONSGML v1.0//EN
CALSCALE:GREGORIAN
METHOD:PUBLISH
X-WR-CALNAME:WASH Aquatics Academy
X-ORIGINAL-URL:https://washaquaticsacademy.lifeguardtrainings.com
X-WR-CALDESC:Events for WASH Aquatics Academy
REFRESH-INTERVAL;VALUE=DURATION:PT1H
X-Robots-Tag:noindex
X-PUBLISHED-TTL:PT1H
BEGIN:VTIMEZONE
TZID:UTC
BEGIN:STANDARD
TZOFFSETFROM:+0000
TZOFFSETTO:+0000
TZNAME:UTC
DTSTART:20260101T000000
END:STANDARD
END:VTIMEZONE
BEGIN:VEVENT
DTSTART;TZID=UTC:20260304T080000
DTEND;TZID=UTC:20260307T170000
DTSTAMP:20260420T115502
CREATED:20231005T175245Z
LAST-MODIFIED:20250203T135901Z
UID:1410-1772611200-1772902800@washaquaticsacademy.lifeguardtrainings.com
SUMMARY:WASH Aquatics Academy | Northern Virginia
DESCRIPTION:We are now offering three annual Aquatics Academies. We are in the planning phase for our March 2026 WASH Aquatic Academy in Northern Virginia (Alexandria area). We hope that all of our DMV and D.C. partners\, instructors\, training centers and other aquatic and safety professionals will be able to join us for what should be an outstanding couple of days of learning and networking (heavy focus on pool management companies and their operations). \n\n\n\nCourses and educational sessions will include: PWC Rescue Operations\, SCUBA & Rescue Diver\, Defense Maneuvers in the Water\, Swift Water Rescue\, Water Rescue Techniques & Maneuvers\, Lifeguarding When There are No Lifeguards\, Spinal Trauma Response\, Small and Large Vessel Rescue Operations\, as well as a number of WASH course offerings (both recertification and certification courses at the instructor and provider levels) \n\n\n\nOur Keynote Speaker will be announced on December 15th\, 2025! \n\n\n\nIf you are interested in being a presenter or in sponsorship of this tri-annual\, worldwide\, lifesaving educational event please email: academy@lifeguardcertifications.com. \n\n\n\nStay tuned for more information to be released in the very near future!
URL:https://washaquaticsacademy.lifeguardtrainings.com/event/wash-aquatics-academy-grand-cayman-2/
LOCATION:Alexandria Virginia\, King Streeet\, Alexandria\, Virginia\, 22302\, United States
CATEGORIES:Aquatics Academy
ORGANIZER;CN="World Academy of Safety & Health (WASH)":MAILTO:academy@lifeguardcertifications.com
END:VEVENT
BEGIN:VEVENT
DTSTART;TZID=UTC:20260318T080000
DTEND;TZID=UTC:20260321T170000
DTSTAMP:20260420T115502
CREATED:20231006T113554Z
LAST-MODIFIED:20250203T140248Z
UID:1531-1773820800-1774112400@washaquaticsacademy.lifeguardtrainings.com
SUMMARY:WASH Aquatics Academy Puerto Madryn\, Argentina
DESCRIPTION:These events are opportunities for our partners to come together for 4 days of networking\, continuing professional development\, and other educational and growth opportunities. Among many other features\, this event will include: an opening evening cocktail and welcome party\, a keynote speaker\, various educational sessions\, breakout sessions\, certification and recertification courses at both the provider and instructor level\, and industry specific vendors. \n\n\n\nFinal itineraries including session topics\, dates/days/times\, keynote speaker name and topic\, host hotel\, and other pertinent logistical information will be publicly released in early January 2025. We know we will be offering: \n\n\n\n\nCertified Pool Operator (CPO)\n\n\n\nPersonal Watercraft (PWC) Rescue Operator\n\n\n\nPool\, Waterpark\, Waterfront\, Surf Rescue Lifeguard\n\n\n\nLifeguard When There are No Lifeguards\n\n\n\nSwift Water Rescue\n\n\n\nEstablishing a Lifeguard Corps\n\n\n\n\n\nSCUBA and Rescue Diver\n\n\n\nDefense Maneuvers in the Water\n\n\n\nLifeguard Instructor S.1 and S.2\n\n\n\nSpinal Trauma Response\n\n\n\nWater Rescue Techniques & Maneuvers\n\n\n\nSmall & Large Vessel Rescue Maneuvers
URL:https://washaquaticsacademy.lifeguardtrainings.com/event/wash-aquatics-academy-puerto-madryn-argentina/
LOCATION:Puerto Madryn\, Argentina\, Puerto Madryn\, Argentina
CATEGORIES:Aquatics Academy
ORGANIZER;CN="World Academy of Safety & Health (WASH)":MAILTO:academy@lifeguardcertifications.com
END:VEVENT
END:VCALENDAR