BEGIN:VCALENDAR
VERSION:2.0
PRODID:-//WASH Aquatics Academy - ECPv6.10.0//NONSGML v1.0//EN
CALSCALE:GREGORIAN
METHOD:PUBLISH
X-ORIGINAL-URL:https://washaquaticsacademy.lifeguardtrainings.com
X-WR-CALDESC:Events for WASH Aquatics Academy
REFRESH-INTERVAL;VALUE=DURATION:PT1H
X-Robots-Tag:noindex
X-PUBLISHED-TTL:PT1H
BEGIN:VTIMEZONE
TZID:UTC
BEGIN:STANDARD
TZOFFSETFROM:+0000
TZOFFSETTO:+0000
TZNAME:UTC
DTSTART:20250101T000000
END:STANDARD
END:VTIMEZONE
BEGIN:VEVENT
DTSTART;TZID=UTC:20250730T080000
DTEND;TZID=UTC:20250802T170000
DTSTAMP:20260420T013755
CREATED:20231005T174622Z
LAST-MODIFIED:20250203T140224Z
UID:1406-1753862400-1754154000@washaquaticsacademy.lifeguardtrainings.com
SUMMARY:WASH Aquatics Academy | Cleveland Ohio (OH) USA
DESCRIPTION:These events are opportunities for our partners to come together for 4 days of networking\, continuing professional development\, and other educational and growth opportunities. Among many other features\, this event will include: an opening evening cocktail and welcome party\, a keynote speaker\, various educational sessions\, breakout sessions\, certification and recertification courses at both the provider and instructor level\, and industry specific vendors. \n\n\n\nFinal itineraries including session topics\, dates/days/times\, keynote speaker name and topic\, host hotel\, and other pertinent logistical information will be publicly released in early January 2024. We know we will be offering: \n\n\n\n\nCertified Pool Operator (CPO)\n\n\n\nPersonal Watercraft (PWC) Rescue Operator\n\n\n\nPool\, Waterpark\, Waterfront\, Surf Rescue Lifeguard\n\n\n\nLifeguard When There are No Lifeguards\n\n\n\nSwift Water Rescue\n\n\n\nEstablishing a Lifeguard Corps\n\n\n\n\n\nSCUBA and Rescue Diver\n\n\n\nDefense Maneuvers in the Water\n\n\n\nLifeguard Instructor S.1 and S.2\n\n\n\nSpinal Trauma Response\n\n\n\nWater Rescue Techniques & Maneuvers\n\n\n\nSmall & Large Vessel Rescue Maneuvers
URL:https://washaquaticsacademy.lifeguardtrainings.com/event/wash-aquatics-academy-columbus-ohio-usa/
LOCATION:Cleveland\, Ohio\, Riverside Drive\, Cleveland\, Ohio\, 44135\, United States
CATEGORIES:Aquatics Academy
ORGANIZER;CN="World Academy of Safety & Health (WASH)":MAILTO:academy@lifeguardcertifications.com
END:VEVENT
END:VCALENDAR